BEGIN:VCALENDAR
PRODID:-//AT Content Types//AT Event//EN
VERSION:2.0
METHOD:PUBLISH
BEGIN:VEVENT
DTSTAMP:20260420T222421Z
CREATED:20180606T145558Z
UID:ATEvent-b353158bff8d83f9090826c137efcff0
LAST-MODIFIED:20211116T131000Z
SUMMARY:Wythenshaw Drop In
DTSTART:20180621T110000Z
DTEND:20180621T160000Z
DESCRIPTION:Forum Library\nForum Grove \nM22 5RX
CLASS:PUBLIC
END:VEVENT
END:VCALENDAR
