BEGIN:VCALENDAR
PRODID:-//AT Content Types//AT Event//EN
VERSION:2.0
METHOD:PUBLISH
BEGIN:VEVENT
DTSTAMP:20260420T222300Z
CREATED:20180517T102407Z
UID:ATEvent-50bc15d4985aa5d1eedbe2e56b980da0
LAST-MODIFIED:20211116T131000Z
SUMMARY:Wilmslow Drop in
DTSTART:20180620T130000Z
DTEND:20180620T180000Z
DESCRIPTION:Wilmslow Library\nSouth Drive\nSK9 1NW
CLASS:PUBLIC
END:VEVENT
END:VCALENDAR
