BEGIN:VCALENDAR
PRODID:-//AT Content Types//AT Event//EN
VERSION:2.0
METHOD:PUBLISH
BEGIN:VEVENT
DTSTAMP:20260420T232449Z
CREATED:20180501T120212Z
UID:ATEvent-a7e899a5ba725b1900980cd0e3464c48
LAST-MODIFIED:20211116T131000Z
SUMMARY:Werneth Drop in Event
DTSTART:20180601T120000Z
DTEND:20180601T170000Z
DESCRIPTION:Bredbury Library\n296 George Lane\nBredbury \nStockport \n
 SK6 1DJ
CLASS:PUBLIC
END:VEVENT
END:VCALENDAR
