BEGIN:VCALENDAR
PRODID:-//AT Content Types//AT Event//EN
VERSION:2.0
METHOD:PUBLISH
BEGIN:VEVENT
DTSTAMP:20260420T222336Z
CREATED:20180501T105628Z
UID:ATEvent-69f29927d90874b222f804244971608c
LAST-MODIFIED:20211116T131000Z
SUMMARY:Stepping Hill Drop in Event
DTSTART:20180620T150000Z
DTEND:20180620T190000Z
DESCRIPTION:Hazel Grove Civic Hall\nLondon Road \nStockport \nSK7 4RF
CLASS:PUBLIC
END:VEVENT
END:VCALENDAR
