BEGIN:VCALENDAR
PRODID:-//AT Content Types//AT Event//EN
VERSION:2.0
METHOD:PUBLISH
BEGIN:VEVENT
DTSTAMP:20260420T222304Z
CREATED:20180517T102407Z
UID:ATEvent-14270a2266dd0550eb7ea1cbe091d193
LAST-MODIFIED:20211116T131000Z
SUMMARY:Poynton Drop In
DTSTART:20180524T130000Z
DTEND:20180524T180000Z
DESCRIPTION:Poynton Civic Hall\nPark Lane\nPoynton\nStockport \nSK12 1
 RB
CLASS:PUBLIC
END:VEVENT
END:VCALENDAR
