BEGIN:VCALENDAR
PRODID:-//AT Content Types//AT Event//EN
VERSION:2.0
METHOD:PUBLISH
BEGIN:VEVENT
DTSTAMP:20260420T222401Z
CREATED:20180517T102407Z
UID:ATEvent-29a8ad83056cfa2203e1a6f29ed9c743
LAST-MODIFIED:20211116T131000Z
SUMMARY:New Mills Drop in
DTSTART:20180625T150000Z
DTEND:20180625T183000Z
DESCRIPTION:Springbank Arts Centre\nNew Mills \nSK22 4BH
CLASS:PUBLIC
END:VEVENT
END:VCALENDAR
