BEGIN:VCALENDAR
PRODID:-//AT Content Types//AT Event//EN
VERSION:2.0
METHOD:PUBLISH
BEGIN:VEVENT
DTSTAMP:20260420T222304Z
CREATED:20180501T120213Z
UID:ATEvent-f8ee2bc7b6a267531f8afeeda4f21cb7
LAST-MODIFIED:20211116T131000Z
SUMMARY:Marple  Drop in Event
DTSTART:20180529T153000Z
DTEND:20180529T190000Z
DESCRIPTION:Parish Hall\nSt Martin's Vicarage \n15 Brabyns Brow\nMarpl
 e Bridge \nStockport\nSK6 5DT
CLASS:PUBLIC
END:VEVENT
END:VCALENDAR
