BEGIN:VCALENDAR
PRODID:-//AT Content Types//AT Event//EN
VERSION:2.0
METHOD:PUBLISH
BEGIN:VEVENT
DTSTAMP:20260420T222153Z
CREATED:20180517T102407Z
UID:ATEvent-24be3239dd1f4d19a3ddea2bc7997669
LAST-MODIFIED:20211116T131000Z
SUMMARY:Macclesfield Drop in
DTSTART:20180618T130000Z
DTEND:20180618T180000Z
DESCRIPTION:Macclesfield Town Hall\nSK10 1EA
CLASS:PUBLIC
END:VEVENT
END:VCALENDAR
