BEGIN:VCALENDAR
PRODID:-//AT Content Types//AT Event//EN
VERSION:2.0
METHOD:PUBLISH
BEGIN:VEVENT
DTSTAMP:20260420T222336Z
CREATED:20180606T100550Z
UID:ATEvent-a3462def1038c4c6f9bc60ce81ab4a9f
LAST-MODIFIED:20211116T131000Z
SUMMARY:High Lane Drop In
DTSTART:20180628T140000Z
DTEND:20180628T190000Z
DESCRIPTION:High Lane Village Hall\nWindlehurst Road\nHigh Lane \nSK6 
 8AB
CLASS:PUBLIC
END:VEVENT
END:VCALENDAR
