BEGIN:VCALENDAR
PRODID:-//AT Content Types//AT Event//EN
VERSION:2.0
METHOD:PUBLISH
BEGIN:VEVENT
DTSTAMP:20260420T232152Z
CREATED:20180501T120212Z
UID:ATEvent-9dfd48fd2be121109348d80835a03a80
LAST-MODIFIED:20211116T131000Z
SUMMARY:Heatons and Reddish Drop In Event
DTSTART:20180611T160000Z
DTEND:20180611T190000Z
DESCRIPTION:Life Leisure \nHouldsworth Village \nBroadstone Road \nRed
 dish \nSK5 7AT
CLASS:PUBLIC
END:VEVENT
END:VCALENDAR
