BEGIN:VCALENDAR
PRODID:-//AT Content Types//AT Event//EN
VERSION:2.0
METHOD:PUBLISH
BEGIN:VEVENT
DTSTAMP:20260420T222154Z
CREATED:20180517T102407Z
UID:ATEvent-3490b49ebc6f7d3b393f211c57dd5a5e
LAST-MODIFIED:20211116T131000Z
SUMMARY:Handforth Drop in
DTSTART:20180531T130000Z
DTEND:20180531T180000Z
DESCRIPTION:Honford Hall\nHall Road \nHandforth \nSK9 3AE
CLASS:PUBLIC
END:VEVENT
END:VCALENDAR
