BEGIN:VCALENDAR
PRODID:-//AT Content Types//AT Event//EN
VERSION:2.0
METHOD:PUBLISH
BEGIN:VEVENT
DTSTAMP:20260420T222300Z
CREATED:20180517T102407Z
UID:ATEvent-7327d71dc44675fb4040b8182a3286fe
LAST-MODIFIED:20211116T131000Z
SUMMARY:Disley Drop in
DTSTART:20180530T130000Z
DTEND:20180530T180000Z
DESCRIPTION:Disley Community Centre\nBuxton Old Road\nDisley \nSK12 2B
 B
CLASS:PUBLIC
END:VEVENT
END:VCALENDAR
