BEGIN:VCALENDAR
PRODID:-//AT Content Types//AT Event//EN
VERSION:2.0
METHOD:PUBLISH
BEGIN:VEVENT
DTSTAMP:20260420T222159Z
CREATED:20180501T120212Z
UID:ATEvent-b4f71439e6c9392dcd3a88b0dfa98af1
LAST-MODIFIED:20211116T131000Z
SUMMARY:Cheadle Drop In Event
DTSTART:20180531T150000Z
DTEND:20180531T190000Z
DESCRIPTION:Ashfield Room\, 2nf Floor \nThe Upper Room (Next to Tesco'
 s) \n11 Wilmslow Road\nStockport \nSK6 1DJ
CLASS:PUBLIC
END:VEVENT
END:VCALENDAR
