BEGIN:VCALENDAR
PRODID:-//AT Content Types//AT Event//EN
VERSION:2.0
METHOD:PUBLISH
BEGIN:VEVENT
DTSTAMP:20260420T222518Z
CREATED:20180530T102300Z
UID:ATEvent-b087ffaeacafef4ccfe34e7cfb2ac8dc
LAST-MODIFIED:20211116T131000Z
SUMMARY:Central Stockport Drop In
DTSTART:20180619T110000Z
DTEND:20180619T153000Z
DESCRIPTION:Central Library \nWellington Road South \nStockport \nSK1 
 3RS
CLASS:PUBLIC
END:VEVENT
END:VCALENDAR
