BEGIN:VCALENDAR
PRODID:-//AT Content Types//AT Event//EN
VERSION:2.0
METHOD:PUBLISH
BEGIN:VEVENT
DTSTAMP:20260420T232314Z
CREATED:20180501T120213Z
UID:ATEvent-755d1e08c25e07d3584cf2d0ef88aa24
LAST-MODIFIED:20211116T131000Z
SUMMARY:Bramhall and Cheadle Hulme South Drop in Event
DTSTART:20180614T140000Z
DTEND:20180614T180000Z
DESCRIPTION:Bramhall library Community Room\n49 Bramhall Lane South \n
 Bramhall \nStockport \nSK7 2DU
CLASS:PUBLIC
END:VEVENT
END:VCALENDAR
