BEGIN:VCALENDAR
PRODID:-//AT Content Types//AT Event//EN
VERSION:2.0
METHOD:PUBLISH
BEGIN:VEVENT
DTSTAMP:20260420T222543Z
CREATED:20180608T113112Z
UID:ATEvent-62a6cbe5a06bc7b6d2dd97d9b2619d4d
LAST-MODIFIED:20180620T155837Z
SUMMARY:Drop-In Session
DTSTART:20180626T141000Z
DTEND:20180626T180000Z
DESCRIPTION:Ludworth Primary School
CLASS:PUBLIC
END:VEVENT
END:VCALENDAR
