BEGIN:VCALENDAR
PRODID:-//AT Content Types//AT Event//EN
VERSION:2.0
METHOD:PUBLISH
BEGIN:VEVENT
DTSTAMP:20260420T233417Z
CREATED:20180608T113112Z
UID:ATEvent-8585f2003de826f7fe864882a9b0dc11
LAST-MODIFIED:20180620T155837Z
SUMMARY:Drop-In Session
DTSTART:20180621T141000Z
DTEND:20180621T180000Z
DESCRIPTION:Ludworth Primary School
CLASS:PUBLIC
END:VEVENT
END:VCALENDAR
